BEGIN:VCALENDAR
VERSION:2.0
PRODID:SchoolNow
CALSCALE:GREGORIAN
BEGIN:VEVENT
UID:ed8dbc56-7781-11ef-91b4-0243fb4c7b67
DTSTAMP:20250304T220039Z
SUMMARY:Cross Creek North CDD - Board of Supervisors' Meeting - Mar. 2025
LOCATION:The Cross Creek North Amenity Center\, 2895 Big Oak Drive\, Green 
 Cove Springs\, FL 32043
URL;VALUE=URI:https://www.crosscreeknorthcdd.org/calendar/6651846/cross-cre
 ek-north-cdd-board-of-supervisors-meeting-mar-2025
DTSTART:20250311T191500Z
DTEND:20250311T201500Z
ATTACH;FILENAME=2025-03-11 - Cross Creek North Final Agenda.pdf;FMTTYPE=app
 lication/pdf:https://campussuite-storage.s3.amazonaws.com/prod/1558917/292
 4aa82-eaaa-11e9-ac34-0aa01e52b234/2922772/17a3b268-f944-11ef-b0aa-0affc9c9
 01b3/file/2025-03-11 - Cross Creek North Final Agenda.pdf
END:VEVENT
END:VCALENDAR
