BEGIN:VCALENDAR
VERSION:2.0
PRODID:SchoolNow
CALSCALE:GREGORIAN
BEGIN:VEVENT
UID:17e95abe-8e51-11f0-ac40-0a58a9feac02
DTSTAMP:20250910T142045Z
SUMMARY:Cross Creek North CDD - Board of Supervisors' Meeting - May 2026
LOCATION:The Cross Creek North Amenity Center\, 2895 Big Oak Drive\, Green 
 Cove Springs\, FL 32043
URL;VALUE=URI:https://www.crosscreeknorthcdd.org/calendar/8604883/cross-cre
 ek-north-cdd-board-of-supervisors-meeting-may-2026
DTSTART:20260512T220000Z
DTEND:20260512T230000Z
END:VEVENT
END:VCALENDAR
